BEGIN:VCALENDAR
VERSION:2.0
PRODID:-//RIGHTHERE//CALENDARIZE IT V3.2//EN
BEGIN:VTIMEZONE
TZID:America/Boise
BEGIN:STANDARD
DTSTART:20251102T080000
TZOFFSETFROM:-0600
TZOFFSETTO:-0700
TZNAME:MST
END:STANDARD
BEGIN:DAYLIGHT
DTSTART:20260308T090000
TZOFFSETFROM:-0700
TZOFFSETTO:-0600
TZNAME:MDT
END:DAYLIGHT
BEGIN:STANDARD
DTSTART:20261101T080000
TZOFFSETFROM:-0600
TZOFFSETTO:-0700
TZNAME:MST
END:STANDARD
END:VTIMEZONE
BEGIN:VEVENT
UID:10561-events@goharlowsmccall.com
DTSTART;TZID=America/Boise:20190720T153000
DTEND;TZID=America/Boise:20190720T000000
DTSTAMP;TZID=America/Boise:20181008T141616
SUMMARY:Alex & Chris Stegner – Finn Church – 2-44PAX bus\, BrC To Only 
 54\, LeM 22
URL:https://goharlowsmccall.com/events/alex-chris-stegner-finn-church-1-44p
 ax-bus/
END:VEVENT
END:VCALENDAR