BEGIN:VCALENDAR
VERSION:2.0
PRODID:-//RIGHTHERE//CALENDARIZE IT V3.2//EN
BEGIN:VTIMEZONE
TZID:America/Boise
BEGIN:STANDARD
DTSTART:20251102T080000
TZOFFSETFROM:-0600
TZOFFSETTO:-0700
TZNAME:MST
END:STANDARD
BEGIN:DAYLIGHT
DTSTART:20260308T090000
TZOFFSETFROM:-0700
TZOFFSETTO:-0600
TZNAME:MDT
END:DAYLIGHT
BEGIN:STANDARD
DTSTART:20261101T080000
TZOFFSETFROM:-0600
TZOFFSETTO:-0700
TZNAME:MST
END:STANDARD
END:VTIMEZONE
BEGIN:VEVENT
UID:11221-events@goharlowsmccall.com
DTSTART;TZID=America/Boise:20190713T150000
DTEND;TZID=America/Boise:20190713T230000
DTSTAMP;TZID=America/Boise:20190111T153819
SUMMARY:Ryan & Katelyn O’Leary Wedding – Jug Mountain Ranch – 1-25PAX
 People Mover\, JaR
URL:https://goharlowsmccall.com/events/ryan-katelyn-oleary-wedding-jug-moun
 tain-ranch-80pax-2-25pax-people-mover/
END:VEVENT
END:VCALENDAR