BEGIN:VCALENDAR
VERSION:2.0
PRODID:-//RIGHTHERE//CALENDARIZE IT V3.2//EN
BEGIN:VTIMEZONE
TZID:America/Boise
BEGIN:STANDARD
DTSTART:20251102T080000
TZOFFSETFROM:-0600
TZOFFSETTO:-0700
TZNAME:MST
END:STANDARD
BEGIN:DAYLIGHT
DTSTART:20260308T090000
TZOFFSETFROM:-0700
TZOFFSETTO:-0600
TZNAME:MDT
END:DAYLIGHT
BEGIN:STANDARD
DTSTART:20261101T080000
TZOFFSETFROM:-0600
TZOFFSETTO:-0700
TZNAME:MST
END:STANDARD
END:VTIMEZONE
BEGIN:VEVENT
UID:11355-events@goharlowsmccall.com
DTSTART;TZID=America/Boise:20190914T161500
DTEND;TZID=America/Boise:20190914T230000
DTSTAMP;TZID=America/Boise:20190130T114607
SUMMARY:Hays / Stanford Wedding – Roseberry – 30PAX (1-44PAX Bus)\, JeO
 22
URL:https://goharlowsmccall.com/events/hays-stanford-wedding-roseberry-30pa
 x-1-44pax-bus/
END:VEVENT
END:VCALENDAR