BEGIN:VCALENDAR
VERSION:2.0
PRODID:-//RIGHTHERE//CALENDARIZE IT V3.2//EN
BEGIN:VTIMEZONE
TZID:America/Boise
BEGIN:STANDARD
DTSTART:20251102T080000
TZOFFSETFROM:-0600
TZOFFSETTO:-0700
TZNAME:MST
END:STANDARD
BEGIN:DAYLIGHT
DTSTART:20260308T090000
TZOFFSETFROM:-0700
TZOFFSETTO:-0600
TZNAME:MDT
END:DAYLIGHT
BEGIN:STANDARD
DTSTART:20261101T080000
TZOFFSETFROM:-0600
TZOFFSETTO:-0700
TZNAME:MST
END:STANDARD
END:VTIMEZONE
BEGIN:VEVENT
UID:11796-events@goharlowsmccall.com
DTSTART;TZID=America/Boise:20190907T120000
DTEND;TZID=America/Boise:20190907T223000
DTSTAMP;TZID=America/Boise:20190403T094535
SUMMARY:Haley/Faulkner Wedding – Burgdorf Hot Springs – CANCELLED
URL:https://goharlowsmccall.com/events/haley-faulkner-wedding-burgdorf-hot-
 springs-40pax-1-44pax-bus/
END:VEVENT
END:VCALENDAR