BEGIN:VCALENDAR
VERSION:2.0
PRODID:-//RIGHTHERE//CALENDARIZE IT V3.2//EN
BEGIN:VTIMEZONE
TZID:America/Boise
BEGIN:STANDARD
DTSTART:20251102T080000
TZOFFSETFROM:-0600
TZOFFSETTO:-0700
TZNAME:MST
END:STANDARD
BEGIN:DAYLIGHT
DTSTART:20260308T090000
TZOFFSETFROM:-0700
TZOFFSETTO:-0600
TZNAME:MDT
END:DAYLIGHT
BEGIN:STANDARD
DTSTART:20261101T080000
TZOFFSETFROM:-0600
TZOFFSETTO:-0700
TZNAME:MST
END:STANDARD
END:VTIMEZONE
BEGIN:VEVENT
UID:1186-events@goharlowsmccall.com
DTSTART;TZID=America/Boise:20160303T061500
DTEND;TZID=America/Boise:20160303T180000
DTSTAMP;TZID=America/Boise:20160222T152035
SUMMARY:MDHS DRAMA CLUB – BSU STUDENT UNION – JUAN #55
DESCRIPTION:PAX - 35 - Teacher: Linville - We will plan to make a bathroom 
 stop in either Cascade or Horseshoe Bend.  Leave HS 6:15\; Arrive 8:45\; L
 oad at 3:00\; Back at school at 6:00pm
URL:https://goharlowsmccall.com/events/mdhs-drama-club-bsu-student-union/
LOCATION:Boise
END:VEVENT
END:VCALENDAR