BEGIN:VCALENDAR
VERSION:2.0
PRODID:-//RIGHTHERE//CALENDARIZE IT V3.2//EN
BEGIN:VTIMEZONE
TZID:America/Boise
BEGIN:STANDARD
DTSTART:20251102T080000
TZOFFSETFROM:-0600
TZOFFSETTO:-0700
TZNAME:MST
END:STANDARD
BEGIN:DAYLIGHT
DTSTART:20260308T090000
TZOFFSETFROM:-0700
TZOFFSETTO:-0600
TZNAME:MDT
END:DAYLIGHT
BEGIN:STANDARD
DTSTART:20261101T080000
TZOFFSETFROM:-0600
TZOFFSETTO:-0700
TZNAME:MST
END:STANDARD
END:VTIMEZONE
BEGIN:VEVENT
UID:1284-events@goharlowsmccall.com
DTSTART;TZID=America/Boise:20160412T081500
DTEND;TZID=America/Boise:20160412T171500
DTSTAMP;TZID=America/Boise:20160304T121439
SUMMARY:PLMS – 8th GRADERS – BOISE ANN FRANK MEMORIAL – CHARLIE # 59 
 Christy Sub.  – ROBERT # 7  Mark Sub*
DESCRIPTION:PAX - 95 - Teacher Michelle Harris -  Going to the Ann Frank Me
 morial and the Capitol Building.   Start at 8:15 and then reload at 3:00pm
 .
URL:https://goharlowsmccall.com/events/plms-8th-graders-boise-ann-frank-mem
 orial-2-buses/
LOCATION:Boise
END:VEVENT
END:VCALENDAR