BEGIN:VCALENDAR
VERSION:2.0
PRODID:-//RIGHTHERE//CALENDARIZE IT V3.2//EN
BEGIN:VTIMEZONE
TZID:America/Boise
BEGIN:STANDARD
DTSTART:20251102T080000
TZOFFSETFROM:-0600
TZOFFSETTO:-0700
TZNAME:MST
END:STANDARD
BEGIN:DAYLIGHT
DTSTART:20260308T090000
TZOFFSETFROM:-0700
TZOFFSETTO:-0600
TZNAME:MDT
END:DAYLIGHT
BEGIN:STANDARD
DTSTART:20261101T080000
TZOFFSETFROM:-0600
TZOFFSETTO:-0700
TZNAME:MST
END:STANDARD
END:VTIMEZONE
BEGIN:VEVENT
UID:1330-events@goharlowsmccall.com
DTSTART;TZID=America/Boise:20160801T040000
DTEND;TZID=America/Boise:20160804T190000
DTSTAMP;TZID=America/Boise:20160308T141436
SUMMARY:PARADISE POINT – 2 VANS(5085 & 5088) & 1 PEOPLE MOVER(#4967)
URL:https://goharlowsmccall.com/events/paradise-point-2-vans-3/
END:VEVENT
END:VCALENDAR