BEGIN:VCALENDAR
VERSION:2.0
PRODID:-//RIGHTHERE//CALENDARIZE IT V3.2//EN
BEGIN:VTIMEZONE
TZID:America/Boise
BEGIN:STANDARD
DTSTART:20251102T080000
TZOFFSETFROM:-0600
TZOFFSETTO:-0700
TZNAME:MST
END:STANDARD
BEGIN:DAYLIGHT
DTSTART:20260308T090000
TZOFFSETFROM:-0700
TZOFFSETTO:-0600
TZNAME:MDT
END:DAYLIGHT
BEGIN:STANDARD
DTSTART:20261101T080000
TZOFFSETFROM:-0600
TZOFFSETTO:-0700
TZNAME:MST
END:STANDARD
END:VTIMEZONE
BEGIN:VEVENT
UID:1431-events@goharlowsmccall.com
DTSTART;TZID=America/Boise:20160618T160000
DTEND;TZID=America/Boise:20160618T220000
DTSTAMP;TZID=America/Boise:20160323T144304
SUMMARY:WILKENING – STOENNER WEDDING MCCALL – JUG MOUNTAIN – 1 BUS SH
 ARON #55
DESCRIPTION:PAX- 40 +/-  -  Pick ups at the holiday Inn& Best Western @ 4:0
 0. Then probably 2 departure times in the evening at 9:00 and then the las
 t call at 10.  Contact person at event  Shannon Berry
URL:https://goharlowsmccall.com/events/wilkening-stoenner-wedding-mccall-ju
 g-mountain-1-bus/
LOCATION:McCall
END:VEVENT
END:VCALENDAR