BEGIN:VCALENDAR
VERSION:2.0
PRODID:-//RIGHTHERE//CALENDARIZE IT V3.2//EN
BEGIN:VTIMEZONE
TZID:America/Boise
BEGIN:STANDARD
DTSTART:20251102T080000
TZOFFSETFROM:-0600
TZOFFSETTO:-0700
TZNAME:MST
END:STANDARD
BEGIN:DAYLIGHT
DTSTART:20260308T090000
TZOFFSETFROM:-0700
TZOFFSETTO:-0600
TZNAME:MDT
END:DAYLIGHT
BEGIN:STANDARD
DTSTART:20261101T080000
TZOFFSETFROM:-0600
TZOFFSETTO:-0700
TZNAME:MST
END:STANDARD
END:VTIMEZONE
BEGIN:VEVENT
UID:1510-events@goharlowsmccall.com
DTSTART;TZID=America/Boise:20160330T231500
DTEND;TZID=America/Boise:20160330T170000
DTSTAMP;TZID=America/Boise:20160330T102951
SUMMARY:Brave Girl’s Club –  BOISE AP – MCCALL – JUAN #4967
DESCRIPTION:PAX - 13 -  Pick group up at Airport at 2:00. Then make a stop 
 in Eagle area. Guide will tell you where. Also will tell you where to go o
 nce you get to McCall.
URL:https://goharlowsmccall.com/events/brave-girls-club-boise-ap-mccall-jua
 n-4967/
LOCATION:Boise
END:VEVENT
END:VCALENDAR