BEGIN:VCALENDAR
VERSION:2.0
PRODID:-//RIGHTHERE//CALENDARIZE IT V3.2//EN
BEGIN:VTIMEZONE
TZID:America/Boise
BEGIN:STANDARD
DTSTART:20251102T080000
TZOFFSETFROM:-0600
TZOFFSETTO:-0700
TZNAME:MST
END:STANDARD
BEGIN:DAYLIGHT
DTSTART:20260308T090000
TZOFFSETFROM:-0700
TZOFFSETTO:-0600
TZNAME:MDT
END:DAYLIGHT
BEGIN:STANDARD
DTSTART:20261101T080000
TZOFFSETFROM:-0600
TZOFFSETTO:-0700
TZNAME:MST
END:STANDARD
END:VTIMEZONE
BEGIN:VEVENT
UID:1671-events@goharlowsmccall.com
DTSTART;TZID=America/Boise:20160917T133000
DTEND;TZID=America/Boise:20160917T000000
DTSTAMP;TZID=America/Boise:20160415T123316
SUMMARY:TRISTA POTTENGER WEDDING – AREA HOTELS TO ARLING CENTER/BLACKHAWK
 – PAX 175- Sharon
DESCRIPTION:PICKUP AT SHORELODGE\, HUNT LODGE\, AND BEST WESTERN 2 BUSES TA
 KE TO ARLING CENTER GO ON STANDBY FOR THE CEREMONY AND THEN TAKE TO BLACKH
 AWK. ONE BUS IS DONE. THE 2ND BUS GOES ON STANDBY TILL 9:00 AND SHUTTLE TO
 THE YACHT CLUB OR HOTELS WITH LAST SHUTTLE FROM BLACKHAWK AT 10:15 THEN GO
 ON STANDBY AGAIN TO TAKE GUESTS FROM THE YACHT CLUB TO AREA HOTELS AT MIDN
 IGHT.
URL:https://goharlowsmccall.com/events/trista-pottenger-wedding-area-hotels
 -to-arling-centerblackhawk-pax-175/
LOCATION:McCall
END:VEVENT
END:VCALENDAR