BEGIN:VCALENDAR
VERSION:2.0
PRODID:-//RIGHTHERE//CALENDARIZE IT V3.2//EN
BEGIN:VTIMEZONE
TZID:America/Boise
BEGIN:STANDARD
DTSTART:20251102T080000
TZOFFSETFROM:-0600
TZOFFSETTO:-0700
TZNAME:MST
END:STANDARD
BEGIN:DAYLIGHT
DTSTART:20260308T090000
TZOFFSETFROM:-0700
TZOFFSETTO:-0600
TZNAME:MDT
END:DAYLIGHT
BEGIN:STANDARD
DTSTART:20261101T080000
TZOFFSETFROM:-0600
TZOFFSETTO:-0700
TZNAME:MST
END:STANDARD
END:VTIMEZONE
BEGIN:VEVENT
UID:16733-events@goharlowsmccall.com
DTSTART;TZID=America/Boise:20200921T131500
DTEND;TZID=America/Boise:20200921T000000
DTSTAMP;TZID=America/Boise:20200914T120352
SUMMARY:PLMS- Volleyball to Fruitland\, JaS 6065\, DoT 7004 CANCELED
URL:https://goharlowsmccall.com/events/plms-volleyball-to-fruitland-2-bus/
END:VEVENT
END:VCALENDAR