BEGIN:VCALENDAR
VERSION:2.0
PRODID:-//RIGHTHERE//CALENDARIZE IT V3.2//EN
BEGIN:VTIMEZONE
TZID:America/Boise
BEGIN:STANDARD
DTSTART:20251102T080000
TZOFFSETFROM:-0600
TZOFFSETTO:-0700
TZNAME:MST
END:STANDARD
BEGIN:DAYLIGHT
DTSTART:20260308T090000
TZOFFSETFROM:-0700
TZOFFSETTO:-0600
TZNAME:MDT
END:DAYLIGHT
BEGIN:STANDARD
DTSTART:20261101T080000
TZOFFSETFROM:-0600
TZOFFSETTO:-0700
TZNAME:MST
END:STANDARD
END:VTIMEZONE
BEGIN:VEVENT
UID:17485-events@goharlowsmccall.com
DTSTART;TZID=America/Boise:20210111T120000
DTEND;TZID=America/Boise:20210111T000000
DTSTAMP;TZID=America/Boise:20210104T091425
SUMMARY:Little Ski Hill- BMES & PLMS\, NeB 6169
RDATE;TZID=America/Boise;VALUE=PERIOD:20210112T120000/20210112T120000,20210
 113T120000/20210113T120000,20210114T120000/20210114T120000,20210118T120000
 /20210118T120000,20210119T120000/20210119T120000,20210120T120000/20210120T
 120000,20210121T120000/20210121T120000,20210125T120000/20210125T120000,202
 10126T120000/20210126T120000,20210127T120000/20210127T120000,20210128T1200
 00/20210128T120000,20210201T120000/20210201T120000,20210202T120000/2021020
 2T120000,20210203T120000/20210203T120000,20210204T120000/20210204T120000,2
 0210208T120000/20210208T120000,20210209T120000/20210209T120000,20210210T12
 0000/20210210T120000,20210211T120000/20210211T120000,20210215T120000/20210
 215T120000,20210216T120000/20210216T120000,20210217T120000/20210217T120000
 ,20210218T120000/20210218T120000,20210222T120000/20210222T120000,20210223T
 120000/20210223T120000,20210224T120000/20210224T120000,20210225T120000/202
 10225T120000
URL:https://goharlowsmccall.com/events/little-ski-hill-bmes-plms/
END:VEVENT
END:VCALENDAR