BEGIN:VCALENDAR
VERSION:2.0
PRODID:-//RIGHTHERE//CALENDARIZE IT V3.2//EN
BEGIN:VTIMEZONE
TZID:America/Boise
BEGIN:STANDARD
DTSTART:20251102T080000
TZOFFSETFROM:-0600
TZOFFSETTO:-0700
TZNAME:MST
END:STANDARD
BEGIN:DAYLIGHT
DTSTART:20260308T090000
TZOFFSETFROM:-0700
TZOFFSETTO:-0600
TZNAME:MDT
END:DAYLIGHT
BEGIN:STANDARD
DTSTART:20261101T080000
TZOFFSETFROM:-0600
TZOFFSETTO:-0700
TZNAME:MST
END:STANDARD
END:VTIMEZONE
BEGIN:VEVENT
UID:1827-events@goharlowsmccall.com
DTSTART;TZID=America/Boise:20160625T170000
DTEND;TZID=America/Boise:20160625T220000
DTSTAMP;TZID=America/Boise:20160505T130304
SUMMARY:Werner/Wilson Wedding -Jim & Nancy B- 4225/4967
URL:https://goharlowsmccall.com/events/wernerwilson-wedding/
ORGANIZER;CN=Jim:
LOCATION:McCall
END:VEVENT
END:VCALENDAR