BEGIN:VCALENDAR
VERSION:2.0
PRODID:-//RIGHTHERE//CALENDARIZE IT V3.2//EN
BEGIN:VTIMEZONE
TZID:America/Boise
BEGIN:STANDARD
DTSTART:20251102T080000
TZOFFSETFROM:-0600
TZOFFSETTO:-0700
TZNAME:MST
END:STANDARD
BEGIN:DAYLIGHT
DTSTART:20260308T090000
TZOFFSETFROM:-0700
TZOFFSETTO:-0600
TZNAME:MDT
END:DAYLIGHT
BEGIN:STANDARD
DTSTART:20261101T080000
TZOFFSETFROM:-0600
TZOFFSETTO:-0700
TZNAME:MST
END:STANDARD
END:VTIMEZONE
BEGIN:VEVENT
UID:1866-events@goharlowsmccall.com
DTSTART;TZID=America/Boise:20160518T083000
DTEND;TZID=America/Boise:20160518T133000
DTSTAMP;TZID=America/Boise:20160511T104534
SUMMARY:PLMS – Bear Basin – Jim #11 & Robert #7
URL:https://goharlowsmccall.com/events/plms-bear-basin-last-chance-campgrou
 nd-jim-11-robert-7/
ORGANIZER;CN=Jim:
END:VEVENT
END:VCALENDAR