BEGIN:VCALENDAR
VERSION:2.0
PRODID:-//RIGHTHERE//CALENDARIZE IT V3.2//EN
BEGIN:VTIMEZONE
TZID:America/Boise
BEGIN:STANDARD
DTSTART:20251102T080000
TZOFFSETFROM:-0600
TZOFFSETTO:-0700
TZNAME:MST
END:STANDARD
BEGIN:DAYLIGHT
DTSTART:20260308T090000
TZOFFSETFROM:-0700
TZOFFSETTO:-0600
TZNAME:MDT
END:DAYLIGHT
BEGIN:STANDARD
DTSTART:20261101T080000
TZOFFSETFROM:-0600
TZOFFSETTO:-0700
TZNAME:MST
END:STANDARD
END:VTIMEZONE
BEGIN:VEVENT
UID:2053-events@goharlowsmccall.com
DTSTART;VALUE=DATE:20160626
DTEND;VALUE=DATE:20160626
DTSTAMP;TZID=America/Boise:20160602T092244
SUMMARY:****Canceled*****Hampikian/Lansing Wedding -Paradise Point- (Charli
 e?)
URL:https://goharlowsmccall.com/events/hampikianlansing-wedding-paradise-po
 int/
LOCATION:McCall
END:VEVENT
END:VCALENDAR