BEGIN:VCALENDAR
VERSION:2.0
PRODID:-//RIGHTHERE//CALENDARIZE IT V3.2//EN
BEGIN:VTIMEZONE
TZID:America/Boise
BEGIN:STANDARD
DTSTART:20251102T080000
TZOFFSETFROM:-0600
TZOFFSETTO:-0700
TZNAME:MST
END:STANDARD
BEGIN:DAYLIGHT
DTSTART:20260308T090000
TZOFFSETFROM:-0700
TZOFFSETTO:-0600
TZNAME:MDT
END:DAYLIGHT
BEGIN:STANDARD
DTSTART:20261101T080000
TZOFFSETFROM:-0600
TZOFFSETTO:-0700
TZNAME:MST
END:STANDARD
END:VTIMEZONE
BEGIN:VEVENT
UID:20587-events@goharlowsmccall.com
DTSTART;TZID=America/Boise:20211211T174500
DTEND;TZID=America/Boise:20211211T000000
DTSTAMP;TZID=America/Boise:20211105T095835
SUMMARY:Disaster Response Party – Super 8 to Shorelodge and Safe Ride Hom
 e @ 830 every half hour\, 50pax\, 1-25pax\, JeO 6287
URL:https://goharlowsmccall.com/events/disaster-response-party-super-8-to-s
 horelodge-and-safe-ride-home-8-every-half-hour-50pax-1-25pax/
END:VEVENT
END:VCALENDAR