BEGIN:VCALENDAR
VERSION:2.0
PRODID:-//RIGHTHERE//CALENDARIZE IT V3.2//EN
BEGIN:VTIMEZONE
TZID:America/Boise
BEGIN:STANDARD
DTSTART:20251102T080000
TZOFFSETFROM:-0600
TZOFFSETTO:-0700
TZNAME:MST
END:STANDARD
BEGIN:DAYLIGHT
DTSTART:20260308T090000
TZOFFSETFROM:-0700
TZOFFSETTO:-0600
TZNAME:MDT
END:DAYLIGHT
BEGIN:STANDARD
DTSTART:20261101T080000
TZOFFSETFROM:-0600
TZOFFSETTO:-0700
TZNAME:MST
END:STANDARD
END:VTIMEZONE
BEGIN:VEVENT
UID:20723-events@goharlowsmccall.com
DTSTART;TZID=America/Boise:20211231T210000
DTEND;TZID=America/Boise:20211231T000000
DTSTAMP;TZID=America/Boise:20211209T133944
SUMMARY:A Knowles – 158 Shadows Trail to Downtown McCall and return 0100\
 , JaS 6287
URL:https://goharlowsmccall.com/events/a-knowles-158-shadows-trail-to-downt
 own-mccall-and-return-0100-jeo-6287/
END:VEVENT
END:VCALENDAR