BEGIN:VCALENDAR
VERSION:2.0
PRODID:-//RIGHTHERE//CALENDARIZE IT V3.2//EN
BEGIN:VTIMEZONE
TZID:America/Boise
BEGIN:STANDARD
DTSTART:20251102T080000
TZOFFSETFROM:-0600
TZOFFSETTO:-0700
TZNAME:MST
END:STANDARD
BEGIN:DAYLIGHT
DTSTART:20260308T090000
TZOFFSETFROM:-0700
TZOFFSETTO:-0600
TZNAME:MDT
END:DAYLIGHT
BEGIN:STANDARD
DTSTART:20261101T080000
TZOFFSETFROM:-0600
TZOFFSETTO:-0700
TZNAME:MST
END:STANDARD
END:VTIMEZONE
BEGIN:VEVENT
UID:20857-events@goharlowsmccall.com
DTSTART;TZID=America/Boise:20220130T090000
DTEND;TZID=America/Boise:20220130T160000
DTSTAMP;TZID=America/Boise:20220105T095424
SUMMARY:Idaho Sled Dog – Davis Ranch to Lake Cascade State Park Boat Ramp
 \, ErB 6287
URL:https://goharlowsmccall.com/events/idaho-sled-dog-davis-ranch-to-lake-c
 ascade-state-park-boat-ramp-6287/
END:VEVENT
END:VCALENDAR