BEGIN:VCALENDAR
VERSION:2.0
PRODID:-//RIGHTHERE//CALENDARIZE IT V3.2//EN
BEGIN:VTIMEZONE
TZID:America/Boise
BEGIN:STANDARD
DTSTART:20251102T080000
TZOFFSETFROM:-0600
TZOFFSETTO:-0700
TZNAME:MST
END:STANDARD
BEGIN:DAYLIGHT
DTSTART:20260308T090000
TZOFFSETFROM:-0700
TZOFFSETTO:-0600
TZNAME:MDT
END:DAYLIGHT
BEGIN:STANDARD
DTSTART:20261101T080000
TZOFFSETFROM:-0600
TZOFFSETTO:-0700
TZNAME:MST
END:STANDARD
END:VTIMEZONE
BEGIN:VEVENT
UID:2090-events@goharlowsmccall.com
DTSTART;TZID=America/Boise:20160904T143500
DTEND;TZID=America/Boise:20160904T164500
DTSTAMP;TZID=America/Boise:20160603T092951
SUMMARY:Bean/Gormley Wedding Sharon #14 + Jeff #5 + Robert  # 4225
URL:https://goharlowsmccall.com/events/beangormley-wedding/
LOCATION:McCall
END:VEVENT
END:VCALENDAR