BEGIN:VCALENDAR
VERSION:2.0
PRODID:-//RIGHTHERE//CALENDARIZE IT V3.2//EN
BEGIN:VTIMEZONE
TZID:America/Boise
BEGIN:STANDARD
DTSTART:20251102T080000
TZOFFSETFROM:-0600
TZOFFSETTO:-0700
TZNAME:MST
END:STANDARD
BEGIN:DAYLIGHT
DTSTART:20260308T090000
TZOFFSETFROM:-0700
TZOFFSETTO:-0600
TZNAME:MDT
END:DAYLIGHT
BEGIN:STANDARD
DTSTART:20261101T080000
TZOFFSETFROM:-0600
TZOFFSETTO:-0700
TZNAME:MST
END:STANDARD
END:VTIMEZONE
BEGIN:VEVENT
UID:21005-events@goharlowsmccall.com
DTSTART;TZID=America/Boise:20220127T143000
DTEND;TZID=America/Boise:20220127T000000
DTSTAMP;TZID=America/Boise:20220114T132824
SUMMARY:TVBC – 1300 S Teare St Meridian to Shiloh Camp 13165 Gestrin Rd D
 onnelly\, JeO 7004
URL:https://goharlowsmccall.com/events/tvbc-1300-s-teare-st-meridian-to-shi
 loh-camp-13165-gestrin-rd-donnelly/
END:VEVENT
END:VCALENDAR