BEGIN:VCALENDAR
VERSION:2.0
PRODID:-//RIGHTHERE//CALENDARIZE IT V3.2//EN
BEGIN:VTIMEZONE
TZID:America/Boise
BEGIN:STANDARD
DTSTART:20251102T080000
TZOFFSETFROM:-0600
TZOFFSETTO:-0700
TZNAME:MST
END:STANDARD
BEGIN:DAYLIGHT
DTSTART:20260308T090000
TZOFFSETFROM:-0700
TZOFFSETTO:-0600
TZNAME:MDT
END:DAYLIGHT
BEGIN:STANDARD
DTSTART:20261101T080000
TZOFFSETFROM:-0600
TZOFFSETTO:-0700
TZNAME:MST
END:STANDARD
END:VTIMEZONE
BEGIN:VEVENT
UID:21008-events@goharlowsmccall.com
DTSTART;TZID=America/Boise:20220130T113000
DTEND;TZID=America/Boise:20220130T000000
DTSTAMP;TZID=America/Boise:20220114T133142
SUMMARY:TVBC – Shilo Camp to TVBC Meridian\, KiJ 5452
URL:https://goharlowsmccall.com/events/tvbc-shilo-camp-to-tvbc-meridian-kij
 -5452/
END:VEVENT
END:VCALENDAR