BEGIN:VCALENDAR
VERSION:2.0
PRODID:-//RIGHTHERE//CALENDARIZE IT V3.2//EN
BEGIN:VTIMEZONE
TZID:America/Boise
BEGIN:STANDARD
DTSTART:20251102T080000
TZOFFSETFROM:-0600
TZOFFSETTO:-0700
TZNAME:MST
END:STANDARD
BEGIN:DAYLIGHT
DTSTART:20260308T090000
TZOFFSETFROM:-0700
TZOFFSETTO:-0600
TZNAME:MDT
END:DAYLIGHT
BEGIN:STANDARD
DTSTART:20261101T080000
TZOFFSETFROM:-0600
TZOFFSETTO:-0700
TZNAME:MST
END:STANDARD
END:VTIMEZONE
BEGIN:VEVENT
UID:21229-events@goharlowsmccall.com
DTSTART;TZID=America/Boise:20220719T123000
DTEND;TZID=America/Boise:20220719T000000
DTSTAMP;TZID=America/Boise:20220207T133106
SUMMARY:Momentum River – Carey Creek to McCall\, EjK 5949 & ErB 5085 + tr
 ailer\, continuing to Boise\, JaS 7004
URL:https://goharlowsmccall.com/events/momentum-river-carey-creek-to-mccall
 -pax-bus-continuing-to-boise-pax-bus-3/
END:VEVENT
END:VCALENDAR