BEGIN:VCALENDAR
VERSION:2.0
PRODID:-//RIGHTHERE//CALENDARIZE IT V3.2//EN
BEGIN:VTIMEZONE
TZID:America/Boise
BEGIN:STANDARD
DTSTART:20251102T080000
TZOFFSETFROM:-0600
TZOFFSETTO:-0700
TZNAME:MST
END:STANDARD
BEGIN:DAYLIGHT
DTSTART:20260308T090000
TZOFFSETFROM:-0700
TZOFFSETTO:-0600
TZNAME:MDT
END:DAYLIGHT
BEGIN:STANDARD
DTSTART:20261101T080000
TZOFFSETFROM:-0600
TZOFFSETTO:-0700
TZNAME:MST
END:STANDARD
END:VTIMEZONE
BEGIN:VEVENT
UID:21314-events@goharlowsmccall.com
DTSTART;TZID=America/Boise:20220527T174500
DTEND;TZID=America/Boise:20220527T000000
DTSTAMP;TZID=America/Boise:20220209T100634
SUMMARY:Doerty Rehearsal Dinner\, Osprey Lodge to Rustic Rd & Shore Lodge\,
 and return\, LuW 6520
URL:https://goharlowsmccall.com/events/doerty-rehearsal-dinner-osprey-lodge
 -to-rustic-rd-shore-lodge-and-return-bus/
END:VEVENT
END:VCALENDAR