BEGIN:VCALENDAR
VERSION:2.0
PRODID:-//RIGHTHERE//CALENDARIZE IT V3.2//EN
BEGIN:VTIMEZONE
TZID:America/Boise
BEGIN:STANDARD
DTSTART:20251102T080000
TZOFFSETFROM:-0600
TZOFFSETTO:-0700
TZNAME:MST
END:STANDARD
BEGIN:DAYLIGHT
DTSTART:20260308T090000
TZOFFSETFROM:-0700
TZOFFSETTO:-0600
TZNAME:MDT
END:DAYLIGHT
BEGIN:STANDARD
DTSTART:20261101T080000
TZOFFSETFROM:-0600
TZOFFSETTO:-0700
TZNAME:MST
END:STANDARD
END:VTIMEZONE
BEGIN:VEVENT
UID:21320-events@goharlowsmccall.com
DTSTART;TZID=America/Boise:20220804T170000
DTEND;TZID=America/Boise:20220804T000000
DTSTAMP;TZID=America/Boise:20220209T161038
SUMMARY:McPaws Progressive Dinner – Various stops around McCall\, 1-44pax
 \, Edk 6415
URL:https://goharlowsmccall.com/events/mcpaws-progressive-dinner-various-st
 ops-around-mccall-1-44pax/
END:VEVENT
END:VCALENDAR