BEGIN:VCALENDAR
VERSION:2.0
PRODID:-//RIGHTHERE//CALENDARIZE IT V3.2//EN
BEGIN:VTIMEZONE
TZID:America/Boise
BEGIN:STANDARD
DTSTART:20251102T080000
TZOFFSETFROM:-0600
TZOFFSETTO:-0700
TZNAME:MST
END:STANDARD
BEGIN:DAYLIGHT
DTSTART:20260308T090000
TZOFFSETFROM:-0700
TZOFFSETTO:-0600
TZNAME:MDT
END:DAYLIGHT
BEGIN:STANDARD
DTSTART:20261101T080000
TZOFFSETFROM:-0600
TZOFFSETTO:-0700
TZNAME:MST
END:STANDARD
END:VTIMEZONE
BEGIN:VEVENT
UID:21327-events@goharlowsmccall.com
DTSTART;TZID=America/Boise:20220217T171500
DTEND;TZID=America/Boise:20220217T000000
DTSTAMP;TZID=America/Boise:20220211T091508
SUMMARY:Blue Moon Yurt trip – Osprey lodge to Jug Mountain and return\, J
 eO 6287 CANCELED
URL:https://goharlowsmccall.com/events/blue-moon-yurt-trip-osprey-lodge-to-
 jug-mountain-and-return-jeo-6287/
END:VEVENT
END:VCALENDAR