BEGIN:VCALENDAR
VERSION:2.0
PRODID:-//RIGHTHERE//CALENDARIZE IT V3.2//EN
BEGIN:VTIMEZONE
TZID:America/Boise
BEGIN:STANDARD
DTSTART:20251102T080000
TZOFFSETFROM:-0600
TZOFFSETTO:-0700
TZNAME:MST
END:STANDARD
BEGIN:DAYLIGHT
DTSTART:20260308T090000
TZOFFSETFROM:-0700
TZOFFSETTO:-0600
TZNAME:MDT
END:DAYLIGHT
BEGIN:STANDARD
DTSTART:20261101T080000
TZOFFSETFROM:-0600
TZOFFSETTO:-0700
TZNAME:MST
END:STANDARD
END:VTIMEZONE
BEGIN:VEVENT
UID:21329-events@goharlowsmccall.com
DTSTART;TZID=America/Boise:20220226T110000
DTEND;TZID=America/Boise:20220226T000000
DTSTAMP;TZID=America/Boise:20220211T095348
SUMMARY:McCall Winter Sports Club – MDHS parking lot to Lil Ski Hill cont
 inuous loop\, 1-20pax\, LuW 6287 CANCELED
URL:https://goharlowsmccall.com/events/mccall-winter-sports-club-mdhs-parki
 ng-lot-to-lil-ski-hill-continuous-loop-1-20pax/
END:VEVENT
END:VCALENDAR