BEGIN:VCALENDAR
VERSION:2.0
PRODID:-//RIGHTHERE//CALENDARIZE IT V3.2//EN
BEGIN:VTIMEZONE
TZID:America/Boise
BEGIN:STANDARD
DTSTART:20251102T080000
TZOFFSETFROM:-0600
TZOFFSETTO:-0700
TZNAME:MST
END:STANDARD
BEGIN:DAYLIGHT
DTSTART:20260308T090000
TZOFFSETFROM:-0700
TZOFFSETTO:-0600
TZNAME:MDT
END:DAYLIGHT
BEGIN:STANDARD
DTSTART:20261101T080000
TZOFFSETFROM:-0600
TZOFFSETTO:-0700
TZNAME:MST
END:STANDARD
END:VTIMEZONE
BEGIN:VEVENT
UID:21387-events@goharlowsmccall.com
DTSTART;TZID=America/Boise:20220908T113000
DTEND;TZID=America/Boise:20220908T000000
DTSTAMP;TZID=America/Boise:20220218T141717
SUMMARY:Orange Torpedo – Vinegar Creek to McCall ??? bus? onto Boise ??? 
 bus?\, 1-44pax\, CANCELED
URL:https://goharlowsmccall.com/events/orange-torpedo-vinegar-creek-to-mcca
 ll-bus-onto-boise-bus-1-44pax-not-confirmed-2/
END:VEVENT
END:VCALENDAR