BEGIN:VCALENDAR
VERSION:2.0
PRODID:-//RIGHTHERE//CALENDARIZE IT V3.2//EN
BEGIN:VTIMEZONE
TZID:America/Boise
BEGIN:STANDARD
DTSTART:20251102T080000
TZOFFSETFROM:-0600
TZOFFSETTO:-0700
TZNAME:MST
END:STANDARD
BEGIN:DAYLIGHT
DTSTART:20260308T090000
TZOFFSETFROM:-0700
TZOFFSETTO:-0600
TZNAME:MDT
END:DAYLIGHT
BEGIN:STANDARD
DTSTART:20261101T080000
TZOFFSETFROM:-0600
TZOFFSETTO:-0700
TZNAME:MST
END:STANDARD
END:VTIMEZONE
BEGIN:VEVENT
UID:21411-events@goharlowsmccall.com
DTSTART;TZID=America/Boise:20220716T111500
DTEND;TZID=America/Boise:20220716T000000
DTSTAMP;TZID=America/Boise:20220223T092655
SUMMARY:St Luke’s Golf – Mile High Marina to Jug Mountain\, 1-PM\, BrP 
 6287
URL:https://goharlowsmccall.com/events/st-lukes-golf-mile-high-marina-to-ju
 g-mountain-1-pm/
END:VEVENT
END:VCALENDAR