BEGIN:VCALENDAR
VERSION:2.0
PRODID:-//RIGHTHERE//CALENDARIZE IT V3.2//EN
BEGIN:VTIMEZONE
TZID:America/Boise
BEGIN:STANDARD
DTSTART:20251102T080000
TZOFFSETFROM:-0600
TZOFFSETTO:-0700
TZNAME:MST
END:STANDARD
BEGIN:DAYLIGHT
DTSTART:20260308T090000
TZOFFSETFROM:-0700
TZOFFSETTO:-0600
TZNAME:MDT
END:DAYLIGHT
BEGIN:STANDARD
DTSTART:20261101T080000
TZOFFSETFROM:-0600
TZOFFSETTO:-0700
TZNAME:MST
END:STANDARD
END:VTIMEZONE
BEGIN:VEVENT
UID:21543-events@goharlowsmccall.com
DTSTART;TZID=America/Boise:20220412T114500
DTEND;TZID=America/Boise:20220412T000000
DTSTAMP;TZID=America/Boise:20220309T103239
SUMMARY:MDHS – Golf to Scotch Pines Golf Course\, ??? bus? CANCELED
URL:https://goharlowsmccall.com/events/mdhs-golf-to-scotch-pines-golf-cours
 e-bus-2/
END:VEVENT
END:VCALENDAR