BEGIN:VCALENDAR
VERSION:2.0
PRODID:-//RIGHTHERE//CALENDARIZE IT V3.2//EN
BEGIN:VTIMEZONE
TZID:America/Boise
BEGIN:STANDARD
DTSTART:20251102T080000
TZOFFSETFROM:-0600
TZOFFSETTO:-0700
TZNAME:MST
END:STANDARD
BEGIN:DAYLIGHT
DTSTART:20260308T090000
TZOFFSETFROM:-0700
TZOFFSETTO:-0600
TZNAME:MDT
END:DAYLIGHT
BEGIN:STANDARD
DTSTART:20261101T080000
TZOFFSETFROM:-0600
TZOFFSETTO:-0700
TZNAME:MST
END:STANDARD
END:VTIMEZONE
BEGIN:VEVENT
UID:21777-events@goharlowsmccall.com
DTSTART;TZID=America/Boise:20220420T100000
DTEND;TZID=America/Boise:20220420T000000
DTSTAMP;TZID=America/Boise:20220407T104102
SUMMARY:MDHS – Golf to Riverbend Golf Course\, JaS 6065
URL:https://goharlowsmccall.com/events/mdhs-golf-to-riverbend-golf-course-b
 us-3/
END:VEVENT
END:VCALENDAR