BEGIN:VCALENDAR
VERSION:2.0
PRODID:-//RIGHTHERE//CALENDARIZE IT V3.2//EN
BEGIN:VTIMEZONE
TZID:America/Boise
BEGIN:STANDARD
DTSTART:20251102T080000
TZOFFSETFROM:-0600
TZOFFSETTO:-0700
TZNAME:MST
END:STANDARD
BEGIN:DAYLIGHT
DTSTART:20260308T090000
TZOFFSETFROM:-0700
TZOFFSETTO:-0600
TZNAME:MDT
END:DAYLIGHT
BEGIN:STANDARD
DTSTART:20261101T080000
TZOFFSETFROM:-0600
TZOFFSETTO:-0700
TZNAME:MST
END:STANDARD
END:VTIMEZONE
BEGIN:VEVENT
UID:21799-events@goharlowsmccall.com
DTSTART;TZID=America/Boise:20220911T080000
DTEND;TZID=America/Boise:20220911T000000
DTSTAMP;TZID=America/Boise:20220407T163711
SUMMARY:Team River Runner – Boise to Corn Creek\, 14pax\, DoT 6287\, CANC
 ELED
URL:https://goharlowsmccall.com/events/team-river-runner-boise-to-corn-cree
 k-14pax/
END:VEVENT
END:VCALENDAR