BEGIN:VCALENDAR
VERSION:2.0
PRODID:-//RIGHTHERE//CALENDARIZE IT V3.2//EN
BEGIN:VTIMEZONE
TZID:America/Boise
BEGIN:STANDARD
DTSTART:20251102T080000
TZOFFSETFROM:-0600
TZOFFSETTO:-0700
TZNAME:MST
END:STANDARD
BEGIN:DAYLIGHT
DTSTART:20260308T090000
TZOFFSETFROM:-0700
TZOFFSETTO:-0600
TZNAME:MDT
END:DAYLIGHT
BEGIN:STANDARD
DTSTART:20261101T080000
TZOFFSETFROM:-0600
TZOFFSETTO:-0700
TZNAME:MST
END:STANDARD
END:VTIMEZONE
BEGIN:VEVENT
UID:21801-events@goharlowsmccall.com
DTSTART;TZID=America/Boise:20220917T130000
DTEND;TZID=America/Boise:20220917T000000
DTSTAMP;TZID=America/Boise:20220407T163907
SUMMARY:Team River Runner – Vinegar Creek to Boise\, 14pax\, ??? bus? CAN
 CELED
URL:https://goharlowsmccall.com/events/team-river-runner-vinegar-creek-to-b
 oise-14pax/
END:VEVENT
END:VCALENDAR