BEGIN:VCALENDAR
VERSION:2.0
PRODID:-//RIGHTHERE//CALENDARIZE IT V3.2//EN
BEGIN:VTIMEZONE
TZID:America/Boise
BEGIN:STANDARD
DTSTART:20251102T080000
TZOFFSETFROM:-0600
TZOFFSETTO:-0700
TZNAME:MST
END:STANDARD
BEGIN:DAYLIGHT
DTSTART:20260308T090000
TZOFFSETFROM:-0700
TZOFFSETTO:-0600
TZNAME:MDT
END:DAYLIGHT
BEGIN:STANDARD
DTSTART:20261101T080000
TZOFFSETFROM:-0600
TZOFFSETTO:-0700
TZNAME:MST
END:STANDARD
END:VTIMEZONE
BEGIN:VEVENT
UID:21811-events@goharlowsmccall.com
DTSTART;TZID=America/Boise:20220513T130000
DTEND;TZID=America/Boise:20220513T000000
DTSTAMP;TZID=America/Boise:20220408T095151
SUMMARY:MDHS – District Track to Weiser\, ??? bus?\, ??? bus? CANCELED
URL:https://goharlowsmccall.com/events/mdhs-district-track-to-weiser-bus-bu
 s-2/
END:VEVENT
END:VCALENDAR