BEGIN:VCALENDAR
VERSION:2.0
PRODID:-//RIGHTHERE//CALENDARIZE IT V3.2//EN
BEGIN:VTIMEZONE
TZID:America/Boise
BEGIN:STANDARD
DTSTART:20251102T080000
TZOFFSETFROM:-0600
TZOFFSETTO:-0700
TZNAME:MST
END:STANDARD
BEGIN:DAYLIGHT
DTSTART:20260308T090000
TZOFFSETFROM:-0700
TZOFFSETTO:-0600
TZNAME:MDT
END:DAYLIGHT
BEGIN:STANDARD
DTSTART:20261101T080000
TZOFFSETFROM:-0600
TZOFFSETTO:-0700
TZNAME:MST
END:STANDARD
END:VTIMEZONE
BEGIN:VEVENT
UID:21813-events@goharlowsmccall.com
DTSTART;TZID=America/Boise:20220613T113000
DTEND;TZID=America/Boise:20220613T000000
DTSTAMP;TZID=America/Boise:20220408T095650
SUMMARY:Elk Creek Church – Elk Creek Church to Harpster\, JaS 6065\, ErB 
 7004\,
URL:https://goharlowsmccall.com/events/elk-creek-church-elk-creek-church-to
 -harpster-bus-bus-bus/
END:VEVENT
END:VCALENDAR