BEGIN:VCALENDAR
VERSION:2.0
PRODID:-//RIGHTHERE//CALENDARIZE IT V3.2//EN
BEGIN:VTIMEZONE
TZID:America/Boise
BEGIN:STANDARD
DTSTART:20251102T080000
TZOFFSETFROM:-0600
TZOFFSETTO:-0700
TZNAME:MST
END:STANDARD
BEGIN:DAYLIGHT
DTSTART:20260308T090000
TZOFFSETFROM:-0700
TZOFFSETTO:-0600
TZNAME:MDT
END:DAYLIGHT
BEGIN:STANDARD
DTSTART:20261101T080000
TZOFFSETFROM:-0600
TZOFFSETTO:-0700
TZNAME:MST
END:STANDARD
END:VTIMEZONE
BEGIN:VEVENT
UID:21901-events@goharlowsmccall.com
DTSTART;TZID=America/Boise:20220630T110000
DTEND;TZID=America/Boise:20220630T000000
DTSTAMP;TZID=America/Boise:20220412T104547
SUMMARY:Action Whitewater – Carey Creek to 3rd St Inn McCall\, 15pax\, Mi
 G 6169
URL:https://goharlowsmccall.com/events/action-whitewater-carey-creek-to-3rd
 -st-inn-mccall-48pax-bus-2/
END:VEVENT
END:VCALENDAR