BEGIN:VCALENDAR
VERSION:2.0
PRODID:-//RIGHTHERE//CALENDARIZE IT V3.2//EN
BEGIN:VTIMEZONE
TZID:America/Boise
BEGIN:STANDARD
DTSTART:20251102T080000
TZOFFSETFROM:-0600
TZOFFSETTO:-0700
TZNAME:MST
END:STANDARD
BEGIN:DAYLIGHT
DTSTART:20260308T090000
TZOFFSETFROM:-0700
TZOFFSETTO:-0600
TZNAME:MDT
END:DAYLIGHT
BEGIN:STANDARD
DTSTART:20261101T080000
TZOFFSETFROM:-0600
TZOFFSETTO:-0700
TZNAME:MST
END:STANDARD
END:VTIMEZONE
BEGIN:VEVENT
UID:21942-events@goharlowsmccall.com
DTSTART;TZID=America/Boise:20220713T100000
DTEND;TZID=America/Boise:20220713T000000
DTSTAMP;TZID=America/Boise:20220412T113304
SUMMARY:Mackay Wilderness River – Vinegar Creek to McCall (Gem AIR)\, 48p
 ax\, ErB 5951\, MiG 5949\, CANCELED
URL:https://goharlowsmccall.com/events/mackay-wilderness-river-vinegar-cree
 k-to-mccall-gem-air-48pax-bus-bus-2/
END:VEVENT
END:VCALENDAR