BEGIN:VCALENDAR
VERSION:2.0
PRODID:-//RIGHTHERE//CALENDARIZE IT V3.2//EN
BEGIN:VTIMEZONE
TZID:America/Boise
BEGIN:STANDARD
DTSTART:20251102T080000
TZOFFSETFROM:-0600
TZOFFSETTO:-0700
TZNAME:MST
END:STANDARD
BEGIN:DAYLIGHT
DTSTART:20260308T090000
TZOFFSETFROM:-0700
TZOFFSETTO:-0600
TZNAME:MDT
END:DAYLIGHT
BEGIN:STANDARD
DTSTART:20261101T080000
TZOFFSETFROM:-0600
TZOFFSETTO:-0700
TZNAME:MST
END:STANDARD
END:VTIMEZONE
BEGIN:VEVENT
UID:21956-events@goharlowsmccall.com
DTSTART;TZID=America/Boise:20220730T130000
DTEND;TZID=America/Boise:20220730T000000
DTSTAMP;TZID=America/Boise:20220412T120432
SUMMARY:White Otter Outdoor Adventures – Carey Creek to McCall (Holiday I
 nn)\, 14pax\, LeM 5949
URL:https://goharlowsmccall.com/events/white-otter-outdoor-adventures-carey
 -creek-to-mccall-holiday-inn-14pax-bus/
END:VEVENT
END:VCALENDAR