BEGIN:VCALENDAR
VERSION:2.0
PRODID:-//RIGHTHERE//CALENDARIZE IT V3.2//EN
BEGIN:VTIMEZONE
TZID:America/Boise
BEGIN:STANDARD
DTSTART:20251102T080000
TZOFFSETFROM:-0600
TZOFFSETTO:-0700
TZNAME:MST
END:STANDARD
BEGIN:DAYLIGHT
DTSTART:20260308T090000
TZOFFSETFROM:-0700
TZOFFSETTO:-0600
TZNAME:MDT
END:DAYLIGHT
BEGIN:STANDARD
DTSTART:20261101T080000
TZOFFSETFROM:-0600
TZOFFSETTO:-0700
TZNAME:MST
END:STANDARD
END:VTIMEZONE
BEGIN:VEVENT
UID:22098-events@goharlowsmccall.com
DTSTART;TZID=America/Boise:20220723T140000
DTEND;TZID=America/Boise:20220723T000000
DTSTAMP;TZID=America/Boise:20220419T140102
SUMMARY:Kevin C. – Ponderosa State Park to McCall Golf Club\, Ponderosa d
 ay use area to Shore Lodge 2 loops\, return to Golf course to Shore Lodge\
 ,  ReE 6358
URL:https://goharlowsmccall.com/events/kevin-c-ponderosa-state-park-to-mcca
 ll-golf-club-and-return-bus/
END:VEVENT
END:VCALENDAR