BEGIN:VCALENDAR
VERSION:2.0
PRODID:-//RIGHTHERE//CALENDARIZE IT V3.2//EN
BEGIN:VTIMEZONE
TZID:America/Boise
BEGIN:STANDARD
DTSTART:20251102T080000
TZOFFSETFROM:-0600
TZOFFSETTO:-0700
TZNAME:MST
END:STANDARD
BEGIN:DAYLIGHT
DTSTART:20260308T090000
TZOFFSETFROM:-0700
TZOFFSETTO:-0600
TZNAME:MDT
END:DAYLIGHT
BEGIN:STANDARD
DTSTART:20261101T080000
TZOFFSETFROM:-0600
TZOFFSETTO:-0700
TZNAME:MST
END:STANDARD
END:VTIMEZONE
BEGIN:VEVENT
UID:22135-events@goharlowsmccall.com
DTSTART;TZID=America/Boise:20220612T094500
DTEND;TZID=America/Boise:20220612T000000
DTSTAMP;TZID=America/Boise:20220427T094313
SUMMARY:Meadow Creek Golf Resort – Lardo’s to Meadow Creek\, JaS 6825\,
 1-25pax\, CANCELED
URL:https://goharlowsmccall.com/events/meadow-creek-golf-resort-lardos-to-m
 eadow-creek-1-25pax/
END:VEVENT
END:VCALENDAR