BEGIN:VCALENDAR
VERSION:2.0
PRODID:-//RIGHTHERE//CALENDARIZE IT V3.2//EN
BEGIN:VTIMEZONE
TZID:America/Boise
BEGIN:STANDARD
DTSTART:20251102T080000
TZOFFSETFROM:-0600
TZOFFSETTO:-0700
TZNAME:MST
END:STANDARD
BEGIN:DAYLIGHT
DTSTART:20260308T090000
TZOFFSETFROM:-0700
TZOFFSETTO:-0600
TZNAME:MDT
END:DAYLIGHT
BEGIN:STANDARD
DTSTART:20261101T080000
TZOFFSETFROM:-0600
TZOFFSETTO:-0700
TZNAME:MST
END:STANDARD
END:VTIMEZONE
BEGIN:VEVENT
UID:22162-events@goharlowsmccall.com
DTSTART;TZID=America/Boise:20220510T154500
DTEND;TZID=America/Boise:20220510T000000
DTSTAMP;TZID=America/Boise:20220429T102340
SUMMARY:PLCA4Kids – BMES to Elk Creek Church\, BrB 2743
URL:https://goharlowsmccall.com/events/plca4kids-bmes-to-elk-creek-church-b
 us-4/
END:VEVENT
END:VCALENDAR