BEGIN:VCALENDAR
VERSION:2.0
PRODID:-//RIGHTHERE//CALENDARIZE IT V3.2//EN
BEGIN:VTIMEZONE
TZID:America/Boise
BEGIN:STANDARD
DTSTART:20251102T080000
TZOFFSETFROM:-0600
TZOFFSETTO:-0700
TZNAME:MST
END:STANDARD
BEGIN:DAYLIGHT
DTSTART:20260308T090000
TZOFFSETFROM:-0700
TZOFFSETTO:-0600
TZNAME:MDT
END:DAYLIGHT
BEGIN:STANDARD
DTSTART:20261101T080000
TZOFFSETFROM:-0600
TZOFFSETTO:-0700
TZNAME:MST
END:STANDARD
END:VTIMEZONE
BEGIN:VEVENT
UID:22255-events@goharlowsmccall.com
DTSTART;TZID=America/Boise:20220904T131500
DTEND;TZID=America/Boise:20220904T000000
DTSTAMP;TZID=America/Boise:20220509T100029
SUMMARY:Trinity Pines Camp – Trinity Pines to McCall\, and return at 430p
 m\, 5 buses
URL:https://goharlowsmccall.com/events/trinity-pines-camp-trinity-pines-to-
 mccall-and-return-at-430pm-5-buses/
END:VEVENT
END:VCALENDAR