BEGIN:VCALENDAR
VERSION:2.0
PRODID:-//RIGHTHERE//CALENDARIZE IT V3.2//EN
BEGIN:VTIMEZONE
TZID:America/Boise
BEGIN:STANDARD
DTSTART:20251102T080000
TZOFFSETFROM:-0600
TZOFFSETTO:-0700
TZNAME:MST
END:STANDARD
BEGIN:DAYLIGHT
DTSTART:20260308T090000
TZOFFSETFROM:-0700
TZOFFSETTO:-0600
TZNAME:MDT
END:DAYLIGHT
BEGIN:STANDARD
DTSTART:20261101T080000
TZOFFSETFROM:-0600
TZOFFSETTO:-0700
TZNAME:MST
END:STANDARD
END:VTIMEZONE
BEGIN:VEVENT
UID:22334-events@goharlowsmccall.com
DTSTART;TZID=America/Boise:20220531T113000
DTEND;TZID=America/Boise:20220531T000000
DTSTAMP;TZID=America/Boise:20220519T100626
SUMMARY:Action Whitewater – Carey Creek to 3rd St Inn McCall\, 13pax\, Jo
 S 7002
URL:https://goharlowsmccall.com/events/action-whitewater-carey-creek-to-3rd
 -st-inn-mccall-13pax-jos-7002/
END:VEVENT
END:VCALENDAR