BEGIN:VCALENDAR
VERSION:2.0
PRODID:-//RIGHTHERE//CALENDARIZE IT V3.2//EN
BEGIN:VTIMEZONE
TZID:America/Boise
BEGIN:STANDARD
DTSTART:20251102T080000
TZOFFSETFROM:-0600
TZOFFSETTO:-0700
TZNAME:MST
END:STANDARD
BEGIN:DAYLIGHT
DTSTART:20260308T090000
TZOFFSETFROM:-0700
TZOFFSETTO:-0600
TZNAME:MDT
END:DAYLIGHT
BEGIN:STANDARD
DTSTART:20261101T080000
TZOFFSETFROM:-0600
TZOFFSETTO:-0700
TZNAME:MST
END:STANDARD
END:VTIMEZONE
BEGIN:VEVENT
UID:22339-events@goharlowsmccall.com
DTSTART;TZID=America/Boise:20220617T091500
DTEND;TZID=America/Boise:20220617T000000
DTSTAMP;TZID=America/Boise:20220519T131607
SUMMARY:Meadow Creek Golf – Lardo’s to Meadow Creek Golf Resort\, 10pax
 \, ??? bus?\, CANCELED
URL:https://goharlowsmccall.com/events/meadow-creek-golf-lardos-to-meadow-c
 reek-golf-resort-10pax-bus/
END:VEVENT
END:VCALENDAR