BEGIN:VCALENDAR
VERSION:2.0
PRODID:-//RIGHTHERE//CALENDARIZE IT V3.2//EN
BEGIN:VTIMEZONE
TZID:America/Boise
BEGIN:STANDARD
DTSTART:20251102T080000
TZOFFSETFROM:-0600
TZOFFSETTO:-0700
TZNAME:MST
END:STANDARD
BEGIN:DAYLIGHT
DTSTART:20260308T090000
TZOFFSETFROM:-0700
TZOFFSETTO:-0600
TZNAME:MDT
END:DAYLIGHT
BEGIN:STANDARD
DTSTART:20261101T080000
TZOFFSETFROM:-0600
TZOFFSETTO:-0700
TZNAME:MST
END:STANDARD
END:VTIMEZONE
BEGIN:VEVENT
UID:22443-events@goharlowsmccall.com
DTSTART;TZID=America/Boise:20220822T130000
DTEND;TZID=America/Boise:20220822T000000
DTSTAMP;TZID=America/Boise:20220613T152246
SUMMARY:Wet Planet – Carey Creek to McCall\, 8pax\, ErB 3197 + trailer\, 
 5 kayaks
URL:https://goharlowsmccall.com/events/wet-planet-carey-creek-to-mccall-8pa
 x-bus-5-kayaks/
END:VEVENT
END:VCALENDAR