BEGIN:VCALENDAR
VERSION:2.0
PRODID:-//RIGHTHERE//CALENDARIZE IT V3.2//EN
BEGIN:VTIMEZONE
TZID:America/Boise
BEGIN:STANDARD
DTSTART:20251102T080000
TZOFFSETFROM:-0600
TZOFFSETTO:-0700
TZNAME:MST
END:STANDARD
BEGIN:DAYLIGHT
DTSTART:20260308T090000
TZOFFSETFROM:-0700
TZOFFSETTO:-0600
TZNAME:MDT
END:DAYLIGHT
BEGIN:STANDARD
DTSTART:20261101T080000
TZOFFSETFROM:-0600
TZOFFSETTO:-0700
TZNAME:MST
END:STANDARD
END:VTIMEZONE
BEGIN:VEVENT
UID:22452-events@goharlowsmccall.com
DTSTART;TZID=America/Boise:20220712T203000
DTEND;TZID=America/Boise:20220712T000000
DTSTAMP;TZID=America/Boise:20220614T103549
SUMMARY:Eastwind Community Church – Quaker Hill to Elk Creek Church\, 100
 pax\, EdK 5341\, BrB 6520
URL:https://goharlowsmccall.com/events/eastwind-community-church-quaker-hil
 l-to-elk-creek-church-100pax-bus-bus-bus/
END:VEVENT
END:VCALENDAR