BEGIN:VCALENDAR
VERSION:2.0
PRODID:-//RIGHTHERE//CALENDARIZE IT V3.2//EN
BEGIN:VTIMEZONE
TZID:America/Boise
BEGIN:STANDARD
DTSTART:20251102T080000
TZOFFSETFROM:-0600
TZOFFSETTO:-0700
TZNAME:MST
END:STANDARD
BEGIN:DAYLIGHT
DTSTART:20260308T090000
TZOFFSETFROM:-0700
TZOFFSETTO:-0600
TZNAME:MDT
END:DAYLIGHT
BEGIN:STANDARD
DTSTART:20261101T080000
TZOFFSETFROM:-0600
TZOFFSETTO:-0700
TZNAME:MST
END:STANDARD
END:VTIMEZONE
BEGIN:VEVENT
UID:22491-events@goharlowsmccall.com
DTSTART;TZID=America/Boise:20220731T080000
DTEND;TZID=America/Boise:20220731T000000
DTSTAMP;TZID=America/Boise:20220620T110343
SUMMARY:TVBC – Shiloh Bible Camp to Louie Lake Trail \, 44pax\, JaS 5949
URL:https://goharlowsmccall.com/events/tvbc-shiloh-bible-camp-to-duck-lake-
 trail-lick-creek-44pax-bus/
END:VEVENT
END:VCALENDAR