BEGIN:VCALENDAR
VERSION:2.0
PRODID:-//RIGHTHERE//CALENDARIZE IT V3.2//EN
BEGIN:VTIMEZONE
TZID:America/Boise
BEGIN:STANDARD
DTSTART:20251102T080000
TZOFFSETFROM:-0600
TZOFFSETTO:-0700
TZNAME:MST
END:STANDARD
BEGIN:DAYLIGHT
DTSTART:20260308T090000
TZOFFSETFROM:-0700
TZOFFSETTO:-0600
TZNAME:MDT
END:DAYLIGHT
BEGIN:STANDARD
DTSTART:20261101T080000
TZOFFSETFROM:-0600
TZOFFSETTO:-0700
TZNAME:MST
END:STANDARD
END:VTIMEZONE
BEGIN:VEVENT
UID:22500-events@goharlowsmccall.com
DTSTART;TZID=America/Boise:20220806T190000
DTEND;TZID=America/Boise:20220806T000000
DTSTAMP;TZID=America/Boise:20220621T074020
SUMMARY:Whitetail – Continuous loop for summer concert\, BrB 6520\, TeL 6
 538
URL:https://goharlowsmccall.com/events/whitetail-continuous-loop-for-summer
 -concert-2-pm-bus-bus/
END:VEVENT
END:VCALENDAR