BEGIN:VCALENDAR
VERSION:2.0
PRODID:-//RIGHTHERE//CALENDARIZE IT V3.2//EN
BEGIN:VTIMEZONE
TZID:America/Boise
BEGIN:STANDARD
DTSTART:20251102T080000
TZOFFSETFROM:-0600
TZOFFSETTO:-0700
TZNAME:MST
END:STANDARD
BEGIN:DAYLIGHT
DTSTART:20260308T090000
TZOFFSETFROM:-0700
TZOFFSETTO:-0600
TZNAME:MDT
END:DAYLIGHT
BEGIN:STANDARD
DTSTART:20261101T080000
TZOFFSETFROM:-0600
TZOFFSETTO:-0700
TZNAME:MST
END:STANDARD
END:VTIMEZONE
BEGIN:VEVENT
UID:22560-events@goharlowsmccall.com
DTSTART;TZID=America/Boise:20220704T110000
DTEND;TZID=America/Boise:20220704T000000
DTSTAMP;TZID=America/Boise:20220627T134015
SUMMARY:Idaho River Adventures – Carey Creek to McCall\, 19pax\, ErB 5949
URL:https://goharlowsmccall.com/events/idaho-river-adventures-spring-bar-to
 -mccall-19pax-jeo-5949/
END:VEVENT
END:VCALENDAR