BEGIN:VCALENDAR
VERSION:2.0
PRODID:-//RIGHTHERE//CALENDARIZE IT V3.2//EN
BEGIN:VTIMEZONE
TZID:America/Boise
BEGIN:STANDARD
DTSTART:20251102T080000
TZOFFSETFROM:-0600
TZOFFSETTO:-0700
TZNAME:MST
END:STANDARD
BEGIN:DAYLIGHT
DTSTART:20260308T090000
TZOFFSETFROM:-0700
TZOFFSETTO:-0600
TZNAME:MDT
END:DAYLIGHT
BEGIN:STANDARD
DTSTART:20261101T080000
TZOFFSETFROM:-0600
TZOFFSETTO:-0700
TZNAME:MST
END:STANDARD
END:VTIMEZONE
BEGIN:VEVENT
UID:22656-events@goharlowsmccall.com
DTSTART;TZID=America/Boise:20220718T100000
DTEND;TZID=America/Boise:20220718T000000
DTSTAMP;TZID=America/Boise:20220707T123756
SUMMARY:Mackay Wilderness River – Vinegar Creek to Gem Air McCall\, 20pax
 \, ReE 5901
URL:https://goharlowsmccall.com/events/mackay-wilderness-river-vinegar-cree
 k-to-gem-air-mccall-20pax-bus/
END:VEVENT
END:VCALENDAR