BEGIN:VCALENDAR
VERSION:2.0
PRODID:-//RIGHTHERE//CALENDARIZE IT V3.2//EN
BEGIN:VTIMEZONE
TZID:America/Boise
BEGIN:STANDARD
DTSTART:20251102T080000
TZOFFSETFROM:-0600
TZOFFSETTO:-0700
TZNAME:MST
END:STANDARD
BEGIN:DAYLIGHT
DTSTART:20260308T090000
TZOFFSETFROM:-0700
TZOFFSETTO:-0600
TZNAME:MDT
END:DAYLIGHT
BEGIN:STANDARD
DTSTART:20261101T080000
TZOFFSETFROM:-0600
TZOFFSETTO:-0700
TZNAME:MST
END:STANDARD
END:VTIMEZONE
BEGIN:VEVENT
UID:22680-events@goharlowsmccall.com
DTSTART;TZID=America/Boise:20220804T120000
DTEND;TZID=America/Boise:20220804T000000
DTSTAMP;TZID=America/Boise:20220711T112723
SUMMARY:River of No Return Outfitters – Carey Creek to McCall Airport ( G
 em Air)\, 10pax\, MiG 5949
URL:https://goharlowsmccall.com/events/river-of-no-return-outfitters-carey-
 creek-to-mccall-airport-gem-air-10pax-bus/
END:VEVENT
END:VCALENDAR